BEGIN:VCALENDAR
VERSION:2.0
PRODID:-//slowjams.com - ECPv6.15.20//NONSGML v1.0//EN
CALSCALE:GREGORIAN
METHOD:PUBLISH
X-WR-CALNAME:slowjams.com
X-ORIGINAL-URL:https://slowjams.com
X-WR-CALDESC:Events for slowjams.com
REFRESH-INTERVAL;VALUE=DURATION:PT1H
X-Robots-Tag:noindex
X-PUBLISHED-TTL:PT1H
BEGIN:VTIMEZONE
TZID:America/Los_Angeles
BEGIN:DAYLIGHT
TZOFFSETFROM:-0800
TZOFFSETTO:-0700
TZNAME:PDT
DTSTART:20220313T100000
END:DAYLIGHT
BEGIN:STANDARD
TZOFFSETFROM:-0700
TZOFFSETTO:-0800
TZNAME:PST
DTSTART:20221106T090000
END:STANDARD
BEGIN:DAYLIGHT
TZOFFSETFROM:-0800
TZOFFSETTO:-0700
TZNAME:PDT
DTSTART:20230312T100000
END:DAYLIGHT
BEGIN:STANDARD
TZOFFSETFROM:-0700
TZOFFSETTO:-0800
TZNAME:PST
DTSTART:20231105T090000
END:STANDARD
BEGIN:DAYLIGHT
TZOFFSETFROM:-0800
TZOFFSETTO:-0700
TZNAME:PDT
DTSTART:20240310T100000
END:DAYLIGHT
BEGIN:STANDARD
TZOFFSETFROM:-0700
TZOFFSETTO:-0800
TZNAME:PST
DTSTART:20241103T090000
END:STANDARD
BEGIN:DAYLIGHT
TZOFFSETFROM:-0800
TZOFFSETTO:-0700
TZNAME:PDT
DTSTART:20250309T100000
END:DAYLIGHT
BEGIN:STANDARD
TZOFFSETFROM:-0700
TZOFFSETTO:-0800
TZNAME:PST
DTSTART:20251102T090000
END:STANDARD
END:VTIMEZONE
BEGIN:VEVENT
DTSTART;TZID=America/Los_Angeles:20240817T120000
DTEND;TZID=America/Los_Angeles:20240817T220000
DTSTAMP:20260419T232914
CREATED:20240217T204132Z
LAST-MODIFIED:20240217T204132Z
UID:10000053-1723896000-1723932000@slowjams.com
SUMMARY:San Diego\, CA: SoCal Taco Fest
DESCRIPTION:
URL:https://slowjams.com/event/san-diego-ca-socal-taco-fest-2/
LOCATION:Waterfront Park\, 1600 Pacific Hwy\, San Diego\, CA\, 92101\, United States
CATEGORIES:Appearances
ATTACH;FMTTYPE=image/jpeg:https://slowjams.com/wp-content/uploads/2024/02/taco-fest-magic925.jpg
END:VEVENT
BEGIN:VEVENT
DTSTART;TZID=America/Los_Angeles:20230429T120000
DTEND;TZID=America/Los_Angeles:20230429T220000
DTSTAMP:20260419T232914
CREATED:20230323T022056Z
LAST-MODIFIED:20230323T022056Z
UID:10000039-1682769600-1682805600@slowjams.com
SUMMARY:San Diego\, CA: SoCal Taco Fest
DESCRIPTION:America’s biggest and best taco festival! Enjoy tacos from dozens of the best vendors\, plus see live performances from Kool & The Gang\, Calibre 50 and more! Don’t miss Lucha Libre Wrestling\, Chihuahua races and beauty pageant\, a huge party in the margarita tent and so much more. 21+.
URL:https://slowjams.com/event/san-diego-ca-socal-taco-fest/
LOCATION:Waterfront Park\, 1600 Pacific Hwy\, San Diego\, CA\, 92101\, United States
CATEGORIES:Concerts
ATTACH;FMTTYPE=image/jpeg:https://slowjams.com/wp-content/uploads/2023/03/socal.jpg
END:VEVENT
END:VCALENDAR