BEGIN:VCALENDAR
VERSION:2.0
PRODID:-//slowjams.com - ECPv6.15.20//NONSGML v1.0//EN
CALSCALE:GREGORIAN
METHOD:PUBLISH
X-WR-CALNAME:slowjams.com
X-ORIGINAL-URL:https://slowjams.com
X-WR-CALDESC:Events for slowjams.com
REFRESH-INTERVAL;VALUE=DURATION:PT1H
X-Robots-Tag:noindex
X-PUBLISHED-TTL:PT1H
BEGIN:VTIMEZONE
TZID:America/Los_Angeles
BEGIN:DAYLIGHT
TZOFFSETFROM:-0800
TZOFFSETTO:-0700
TZNAME:PDT
DTSTART:20220313T100000
END:DAYLIGHT
BEGIN:STANDARD
TZOFFSETFROM:-0700
TZOFFSETTO:-0800
TZNAME:PST
DTSTART:20221106T090000
END:STANDARD
BEGIN:DAYLIGHT
TZOFFSETFROM:-0800
TZOFFSETTO:-0700
TZNAME:PDT
DTSTART:20230312T100000
END:DAYLIGHT
BEGIN:STANDARD
TZOFFSETFROM:-0700
TZOFFSETTO:-0800
TZNAME:PST
DTSTART:20231105T090000
END:STANDARD
BEGIN:DAYLIGHT
TZOFFSETFROM:-0800
TZOFFSETTO:-0700
TZNAME:PDT
DTSTART:20240310T100000
END:DAYLIGHT
BEGIN:STANDARD
TZOFFSETFROM:-0700
TZOFFSETTO:-0800
TZNAME:PST
DTSTART:20241103T090000
END:STANDARD
BEGIN:DAYLIGHT
TZOFFSETFROM:-0800
TZOFFSETTO:-0700
TZNAME:PDT
DTSTART:20250309T100000
END:DAYLIGHT
BEGIN:STANDARD
TZOFFSETFROM:-0700
TZOFFSETTO:-0800
TZNAME:PST
DTSTART:20251102T090000
END:STANDARD
END:VTIMEZONE
BEGIN:VEVENT
DTSTART;TZID=America/Los_Angeles:20230429T120000
DTEND;TZID=America/Los_Angeles:20230429T220000
DTSTAMP:20260419T082214
CREATED:20230323T022056Z
LAST-MODIFIED:20230323T022056Z
UID:10000039-1682769600-1682805600@slowjams.com
SUMMARY:San Diego\, CA: SoCal Taco Fest
DESCRIPTION:America’s biggest and best taco festival! Enjoy tacos from dozens of the best vendors\, plus see live performances from Kool & The Gang\, Calibre 50 and more! Don’t miss Lucha Libre Wrestling\, Chihuahua races and beauty pageant\, a huge party in the margarita tent and so much more. 21+.
URL:https://slowjams.com/event/san-diego-ca-socal-taco-fest/
LOCATION:Waterfront Park\, 1600 Pacific Hwy\, San Diego\, CA\, 92101\, United States
CATEGORIES:Concerts
ATTACH;FMTTYPE=image/jpeg:https://slowjams.com/wp-content/uploads/2023/03/socal.jpg
END:VEVENT
BEGIN:VEVENT
DTSTART;TZID=America/Los_Angeles:20230806T120000
DTEND;TZID=America/Los_Angeles:20230806T180000
DTSTAMP:20260419T082214
CREATED:20230323T015651Z
LAST-MODIFIED:20230323T015651Z
UID:10000052-1691323200-1691344800@slowjams.com
SUMMARY:San Diego\, CA: Xavier The X-Man's Cruise for The Cause
DESCRIPTION:Join R Dub! at Xavier The X-Man’s 21st Annual Cruise for the Cause car show benefiting The Emilio Nares Foundation – helping kids with cancer get to their treatments.
URL:https://slowjams.com/event/san-diego-ca-xavier-the-x-mans-cruise-for-the-cause/
LOCATION:Otay Ranch Town Center\, 2015 Birch Rd\, Chula Vista\, CA\, 91915\, United States
CATEGORIES:Appearances
ATTACH;FMTTYPE=image/jpeg:https://slowjams.com/wp-content/uploads/2023/03/cruise-for-the-cause.jpg
END:VEVENT
BEGIN:VEVENT
DTSTART;TZID=America/Los_Angeles:20231013T193000
DTEND;TZID=America/Los_Angeles:20231013T233000
DTSTAMP:20260419T082214
CREATED:20230915T191739Z
LAST-MODIFIED:20230915T191838Z
UID:10000041-1697225400-1697239800@slowjams.com
SUMMARY:San Diego\, CA: Throwback Jam starring Ice Cube
DESCRIPTION:
URL:https://slowjams.com/event/san-diego-ca-throwback-jam-starring-ice-cube/
LOCATION:Pechanga Arena San Diego\, 3500 Sports Arena Blvd\, San Diego\, CA\, 92110
CATEGORIES:Concerts
ATTACH;FMTTYPE=image/jpeg:https://slowjams.com/wp-content/uploads/2023/09/1200x628-throwback-e1694805239246.jpg
END:VEVENT
BEGIN:VEVENT
DTSTART;TZID=America/Los_Angeles:20240209T190000
DTEND;TZID=America/Los_Angeles:20240209T233000
DTSTAMP:20260419T082214
CREATED:20231210T033711Z
LAST-MODIFIED:20231210T033711Z
UID:10000043-1707505200-1707521400@slowjams.com
SUMMARY:San Antonio\, TX: Valentine's Super Love Jam
DESCRIPTION:
URL:https://slowjams.com/event/san-antonio-tx-valentines-super-love-jam/
LOCATION:Alamodome Illusions Theater\, 100 Montana St\, San Antonio\, TX\, 78203\, United States
CATEGORIES:Concerts
ATTACH;FMTTYPE=image/jpeg:https://slowjams.com/wp-content/uploads/2023/12/love-jam-sant.jpg
END:VEVENT
BEGIN:VEVENT
DTSTART;TZID=America/Los_Angeles:20240216T190000
DTEND;TZID=America/Los_Angeles:20240216T233000
DTSTAMP:20260419T082214
CREATED:20231210T032405Z
LAST-MODIFIED:20231210T032405Z
UID:10000042-1708110000-1708126200@slowjams.com
SUMMARY:San Diego\, CA: Valentine's Super Love Jam
DESCRIPTION:
URL:https://slowjams.com/event/san-diego-ca-valentines-super-love-jam-2/
LOCATION:Pechanga Arena San Diego\, 3500 Sports Arena Blvd\, San Diego\, CA\, 92110
CATEGORIES:Concerts
ATTACH;FMTTYPE=image/jpeg:https://slowjams.com/wp-content/uploads/2023/12/keith-sweat-2024-1400-2.jpg
END:VEVENT
BEGIN:VEVENT
DTSTART;TZID=America/Los_Angeles:20240315T200000
DTEND;TZID=America/Los_Angeles:20240315T213000
DTSTAMP:20260419T082214
CREATED:20240215T043138Z
LAST-MODIFIED:20240215T051810Z
UID:10000045-1710532800-1710538200@slowjams.com
SUMMARY:Tucson\, AZ: Johnny Gill
DESCRIPTION:R Dub!’s Slow Jams® Series is back – this time at the intimate Diamond Center\, where you’ll be up close and personal with your favorite artists from Sunday Night Slow Jams®! This time\, it’s Johnny Gill! \nJohnny’s best known for his hit songs: “My\, My\, My\,” “Rub You The Right Way\,” “Fairweather Friend\,” “Wrap my Body Tight\,” “My Body\,” “Can You Stand The Rain\,” and more! \n21+.
URL:https://slowjams.com/event/tucson-az-johnny-gill/
LOCATION:Desert Diamond Sahuarita: Diamond Center\, 1100 W Pima Mine Rd\, Sahuarita\, AZ\, 85629\, United States
CATEGORIES:Concerts
ATTACH;FMTTYPE=image/jpeg:https://slowjams.com/wp-content/uploads/2024/02/Johnny-Gill_723x383.jpg
END:VEVENT
BEGIN:VEVENT
DTSTART;TZID=America/Los_Angeles:20240420T200000
DTEND;TZID=America/Los_Angeles:20240420T220000
DTSTAMP:20260419T082214
CREATED:20240215T042204Z
LAST-MODIFIED:20240215T051846Z
UID:10000044-1713643200-1713650400@slowjams.com
SUMMARY:Tucson\, AZ: Ginuwine & Dru Hill
DESCRIPTION:90’s R&B Rewind Featuring Dru Hill and Ginuwine! Host by R Dub!R Dub!’s Slow Jams® Series is back – this time at the intimate Diamond Center\, where you’ll be up close and personal with your favorite artists from Sunday Night Slow Jams®! \nDru Hill is best known for hits like “In My Bed\,” “Never Make a Promise\,” “Tell Me\,” “Five Steps” and “How Deep is Your Love!” \nAnd of course\, Ginuwine: “Pony\,” “Differences\,” “Same ‘Ol G\,” “In Those Jeans\,” “So Anxious” and more! \n21+.
URL:https://slowjams.com/event/tucson-az-ginuwine-dru-hill/
LOCATION:Desert Diamond Sahuarita: Diamond Center\, 1100 W Pima Mine Rd\, Sahuarita\, AZ\, 85629\, United States
CATEGORIES:Concerts
ATTACH;FMTTYPE=image/jpeg:https://slowjams.com/wp-content/uploads/2024/02/90s-Rewind_723x383.jpg
END:VEVENT
END:VCALENDAR