BEGIN:VCALENDAR
VERSION:2.0
PRODID:-//slowjams.com - ECPv6.15.20//NONSGML v1.0//EN
CALSCALE:GREGORIAN
METHOD:PUBLISH
X-WR-CALNAME:slowjams.com
X-ORIGINAL-URL:https://slowjams.com
X-WR-CALDESC:Events for slowjams.com
REFRESH-INTERVAL;VALUE=DURATION:PT1H
X-Robots-Tag:noindex
X-PUBLISHED-TTL:PT1H
BEGIN:VTIMEZONE
TZID:America/Los_Angeles
BEGIN:DAYLIGHT
TZOFFSETFROM:-0800
TZOFFSETTO:-0700
TZNAME:PDT
DTSTART:20180311T100000
END:DAYLIGHT
BEGIN:STANDARD
TZOFFSETFROM:-0700
TZOFFSETTO:-0800
TZNAME:PST
DTSTART:20181104T090000
END:STANDARD
BEGIN:DAYLIGHT
TZOFFSETFROM:-0800
TZOFFSETTO:-0700
TZNAME:PDT
DTSTART:20190310T100000
END:DAYLIGHT
BEGIN:STANDARD
TZOFFSETFROM:-0700
TZOFFSETTO:-0800
TZNAME:PST
DTSTART:20191103T090000
END:STANDARD
BEGIN:DAYLIGHT
TZOFFSETFROM:-0800
TZOFFSETTO:-0700
TZNAME:PDT
DTSTART:20200308T100000
END:DAYLIGHT
BEGIN:STANDARD
TZOFFSETFROM:-0700
TZOFFSETTO:-0800
TZNAME:PST
DTSTART:20201101T090000
END:STANDARD
BEGIN:DAYLIGHT
TZOFFSETFROM:-0800
TZOFFSETTO:-0700
TZNAME:PDT
DTSTART:20210314T100000
END:DAYLIGHT
BEGIN:STANDARD
TZOFFSETFROM:-0700
TZOFFSETTO:-0800
TZNAME:PST
DTSTART:20211107T090000
END:STANDARD
BEGIN:DAYLIGHT
TZOFFSETFROM:-0800
TZOFFSETTO:-0700
TZNAME:PDT
DTSTART:20220313T100000
END:DAYLIGHT
BEGIN:STANDARD
TZOFFSETFROM:-0700
TZOFFSETTO:-0800
TZNAME:PST
DTSTART:20221106T090000
END:STANDARD
BEGIN:DAYLIGHT
TZOFFSETFROM:-0800
TZOFFSETTO:-0700
TZNAME:PDT
DTSTART:20230312T100000
END:DAYLIGHT
BEGIN:STANDARD
TZOFFSETFROM:-0700
TZOFFSETTO:-0800
TZNAME:PST
DTSTART:20231105T090000
END:STANDARD
BEGIN:DAYLIGHT
TZOFFSETFROM:-0800
TZOFFSETTO:-0700
TZNAME:PDT
DTSTART:20240310T100000
END:DAYLIGHT
BEGIN:STANDARD
TZOFFSETFROM:-0700
TZOFFSETTO:-0800
TZNAME:PST
DTSTART:20241103T090000
END:STANDARD
BEGIN:DAYLIGHT
TZOFFSETFROM:-0800
TZOFFSETTO:-0700
TZNAME:PDT
DTSTART:20250309T100000
END:DAYLIGHT
BEGIN:STANDARD
TZOFFSETFROM:-0700
TZOFFSETTO:-0800
TZNAME:PST
DTSTART:20251102T090000
END:STANDARD
BEGIN:DAYLIGHT
TZOFFSETFROM:-0800
TZOFFSETTO:-0700
TZNAME:PDT
DTSTART:20260308T100000
END:DAYLIGHT
BEGIN:STANDARD
TZOFFSETFROM:-0700
TZOFFSETTO:-0800
TZNAME:PST
DTSTART:20261101T090000
END:STANDARD
BEGIN:DAYLIGHT
TZOFFSETFROM:-0800
TZOFFSETTO:-0700
TZNAME:PDT
DTSTART:20270314T100000
END:DAYLIGHT
BEGIN:STANDARD
TZOFFSETFROM:-0700
TZOFFSETTO:-0800
TZNAME:PST
DTSTART:20271107T090000
END:STANDARD
END:VTIMEZONE
BEGIN:VEVENT
DTSTART;TZID=America/Los_Angeles:20260213T190000
DTEND;TZID=America/Los_Angeles:20260213T230000
DTSTAMP:20260421T132256
CREATED:20251028T200919Z
LAST-MODIFIED:20251112T222015Z
UID:10000046-1771009200-1771023600@slowjams.com
SUMMARY:San Diego\, CA - Valentine's Super Love Jam
DESCRIPTION:
URL:https://slowjams.com/event/san-diego-ca-valentines-super-love-jam-3/
LOCATION:Pechanga Arena San Diego\, 3500 Sports Arena Blvd\, San Diego\, CA\, 92110
CATEGORIES:Concerts
ATTACH;FMTTYPE=image/jpeg:https://slowjams.com/wp-content/uploads/2025/10/SD-2.jpg
END:VEVENT
BEGIN:VEVENT
DTSTART;TZID=America/Los_Angeles:20260207T190000
DTEND;TZID=America/Los_Angeles:20260207T230000
DTSTAMP:20260421T132256
CREATED:20251028T201226Z
LAST-MODIFIED:20251028T201436Z
UID:10000055-1770490800-1770505200@slowjams.com
SUMMARY:Las Vegas\, NV - The Love Affair
DESCRIPTION:
URL:https://slowjams.com/event/las-vegas-nv-the-love-affair/
LOCATION:The Orleans Arena\, 4500 W Tropicana Ave\, Las Vegas\, NV\, 89103\, United States
CATEGORIES:Concerts
ATTACH;FMTTYPE=image/jpeg:https://slowjams.com/wp-content/uploads/2025/10/r-dub-Slow-Jams-Las-Vegas-concert.jpg
END:VEVENT
BEGIN:VEVENT
DTSTART;TZID=America/Los_Angeles:20240621T183000
DTEND;TZID=America/Los_Angeles:20240621T230000
DTSTAMP:20260421T132256
CREATED:20240501T150024Z
LAST-MODIFIED:20240506T135643Z
UID:10000047-1718994600-1719010800@slowjams.com
SUMMARY:Tucson\, AZ: Slow Jams® 30th Anniversary Party and Concert with 112 and Hi-Five
DESCRIPTION:Join us as we celebrate 30 Years of Sunday Night Slow Jams®! \nIt’s a Slow Jams party and concert\, hosted by R Dub! – Creator and Host of Sunday Night Slow Jams® \nWe’ll start the party at 6:30PM\, as R Dub! plays your favorite jams fast and\, of course\, Slooooow! We’ll do live Oral Expressions\, take selfies together and a take a look back at the last 30 years on Sunday Night Slow Jams® – which was born right here in Tucson\, in the summer of 1994. Come early and hang out with R Dub! \nThen\, at 8PM\, Hi-Five takes the stage\, performing their hits like “I Like The Way (The Kissing Game)\,” “I Can’t Wait Another Minute\,” “Quality Time” and “She’s Playing Hard to Get!” \nGet your tickets HERE. \n  \n  \n112 closes down the show with “Peaches and Cream\,” “Cupid\,” “Dance with Me\,” “Only You” and so many more. \nGet your tickets HERE. \n  \n  \nThis is an all-ages show. Get your tickets HERE. \n  \n1994: R Dub! in studio\n  \nSlow Jams® and Sunday Night Slow Jams® are registered trademarks of Fusion Radio Networks\, LLC.
URL:https://slowjams.com/event/tucson-az-slow-jams-30th-anniversary-party-and-concert-with-112-and-hi-five/
LOCATION:Desert Diamond Sahuarita: Diamond Center\, 1100 W Pima Mine Rd\, Sahuarita\, AZ\, 85629\, United States
CATEGORIES:Concerts
ATTACH;FMTTYPE=image/jpeg:https://slowjams.com/wp-content/uploads/2024/05/slowjams-home.jpg
END:VEVENT
BEGIN:VEVENT
DTSTART;TZID=America/Los_Angeles:20240420T200000
DTEND;TZID=America/Los_Angeles:20240420T220000
DTSTAMP:20260421T132256
CREATED:20240215T042204Z
LAST-MODIFIED:20240215T051846Z
UID:10000044-1713643200-1713650400@slowjams.com
SUMMARY:Tucson\, AZ: Ginuwine & Dru Hill
DESCRIPTION:90’s R&B Rewind Featuring Dru Hill and Ginuwine! Host by R Dub!R Dub!’s Slow Jams® Series is back – this time at the intimate Diamond Center\, where you’ll be up close and personal with your favorite artists from Sunday Night Slow Jams®! \nDru Hill is best known for hits like “In My Bed\,” “Never Make a Promise\,” “Tell Me\,” “Five Steps” and “How Deep is Your Love!” \nAnd of course\, Ginuwine: “Pony\,” “Differences\,” “Same ‘Ol G\,” “In Those Jeans\,” “So Anxious” and more! \n21+.
URL:https://slowjams.com/event/tucson-az-ginuwine-dru-hill/
LOCATION:Desert Diamond Sahuarita: Diamond Center\, 1100 W Pima Mine Rd\, Sahuarita\, AZ\, 85629\, United States
CATEGORIES:Concerts
ATTACH;FMTTYPE=image/jpeg:https://slowjams.com/wp-content/uploads/2024/02/90s-Rewind_723x383.jpg
END:VEVENT
BEGIN:VEVENT
DTSTART;TZID=America/Los_Angeles:20240315T200000
DTEND;TZID=America/Los_Angeles:20240315T213000
DTSTAMP:20260421T132256
CREATED:20240215T043138Z
LAST-MODIFIED:20240215T051810Z
UID:10000045-1710532800-1710538200@slowjams.com
SUMMARY:Tucson\, AZ: Johnny Gill
DESCRIPTION:R Dub!’s Slow Jams® Series is back – this time at the intimate Diamond Center\, where you’ll be up close and personal with your favorite artists from Sunday Night Slow Jams®! This time\, it’s Johnny Gill! \nJohnny’s best known for his hit songs: “My\, My\, My\,” “Rub You The Right Way\,” “Fairweather Friend\,” “Wrap my Body Tight\,” “My Body\,” “Can You Stand The Rain\,” and more! \n21+.
URL:https://slowjams.com/event/tucson-az-johnny-gill/
LOCATION:Desert Diamond Sahuarita: Diamond Center\, 1100 W Pima Mine Rd\, Sahuarita\, AZ\, 85629\, United States
CATEGORIES:Concerts
ATTACH;FMTTYPE=image/jpeg:https://slowjams.com/wp-content/uploads/2024/02/Johnny-Gill_723x383.jpg
END:VEVENT
BEGIN:VEVENT
DTSTART;TZID=America/Los_Angeles:20240216T190000
DTEND;TZID=America/Los_Angeles:20240216T233000
DTSTAMP:20260421T132256
CREATED:20231210T032405Z
LAST-MODIFIED:20231210T032405Z
UID:10000042-1708110000-1708126200@slowjams.com
SUMMARY:San Diego\, CA: Valentine's Super Love Jam
DESCRIPTION:
URL:https://slowjams.com/event/san-diego-ca-valentines-super-love-jam-2/
LOCATION:Pechanga Arena San Diego\, 3500 Sports Arena Blvd\, San Diego\, CA\, 92110
CATEGORIES:Concerts
ATTACH;FMTTYPE=image/jpeg:https://slowjams.com/wp-content/uploads/2023/12/keith-sweat-2024-1400-2.jpg
END:VEVENT
BEGIN:VEVENT
DTSTART;TZID=America/Los_Angeles:20240209T190000
DTEND;TZID=America/Los_Angeles:20240209T233000
DTSTAMP:20260421T132256
CREATED:20231210T033711Z
LAST-MODIFIED:20231210T033711Z
UID:10000043-1707505200-1707521400@slowjams.com
SUMMARY:San Antonio\, TX: Valentine's Super Love Jam
DESCRIPTION:
URL:https://slowjams.com/event/san-antonio-tx-valentines-super-love-jam/
LOCATION:Alamodome Illusions Theater\, 100 Montana St\, San Antonio\, TX\, 78203\, United States
CATEGORIES:Concerts
ATTACH;FMTTYPE=image/jpeg:https://slowjams.com/wp-content/uploads/2023/12/love-jam-sant.jpg
END:VEVENT
BEGIN:VEVENT
DTSTART;TZID=America/Los_Angeles:20231013T193000
DTEND;TZID=America/Los_Angeles:20231013T233000
DTSTAMP:20260421T132256
CREATED:20230915T191739Z
LAST-MODIFIED:20230915T191838Z
UID:10000041-1697225400-1697239800@slowjams.com
SUMMARY:San Diego\, CA: Throwback Jam starring Ice Cube
DESCRIPTION:
URL:https://slowjams.com/event/san-diego-ca-throwback-jam-starring-ice-cube/
LOCATION:Pechanga Arena San Diego\, 3500 Sports Arena Blvd\, San Diego\, CA\, 92110
CATEGORIES:Concerts
ATTACH;FMTTYPE=image/jpeg:https://slowjams.com/wp-content/uploads/2023/09/1200x628-throwback-e1694805239246.jpg
END:VEVENT
BEGIN:VEVENT
DTSTART;TZID=America/Los_Angeles:20230429T120000
DTEND;TZID=America/Los_Angeles:20230429T220000
DTSTAMP:20260421T132256
CREATED:20230323T022056Z
LAST-MODIFIED:20230323T022056Z
UID:10000039-1682769600-1682805600@slowjams.com
SUMMARY:San Diego\, CA: SoCal Taco Fest
DESCRIPTION:America’s biggest and best taco festival! Enjoy tacos from dozens of the best vendors\, plus see live performances from Kool & The Gang\, Calibre 50 and more! Don’t miss Lucha Libre Wrestling\, Chihuahua races and beauty pageant\, a huge party in the margarita tent and so much more. 21+.
URL:https://slowjams.com/event/san-diego-ca-socal-taco-fest/
LOCATION:Waterfront Park\, 1600 Pacific Hwy\, San Diego\, CA\, 92101\, United States
CATEGORIES:Concerts
ATTACH;FMTTYPE=image/jpeg:https://slowjams.com/wp-content/uploads/2023/03/socal.jpg
END:VEVENT
BEGIN:VEVENT
DTSTART;TZID=America/Los_Angeles:20230416T173000
DTEND;TZID=America/Los_Angeles:20230416T203000
DTSTAMP:20260421T132256
CREATED:20230323T020322Z
LAST-MODIFIED:20230323T020322Z
UID:10000038-1681666200-1681677000@slowjams.com
SUMMARY:San Diego\, CA: Chuckii Booker & University 2.0
DESCRIPTION:See Chuckii Booker and University 2.0 live in San Diego! Hosted by R Dub!
URL:https://slowjams.com/event/san-diego-ca-chuckii-booker-university-2-0/
LOCATION:Legacy Resort Hotel and Spa\, 875 Hotel Cir S\, San Diego\, CA\, 92108\, United States
CATEGORIES:Concerts
ATTACH;FMTTYPE=image/jpeg:https://slowjams.com/wp-content/uploads/2023/03/chuckii-booker-san-diego-concert.jpg
END:VEVENT
BEGIN:VEVENT
DTSTART;TZID=America/Los_Angeles:20230218T190000
DTEND;TZID=America/Los_Angeles:20230218T233000
DTSTAMP:20260421T132256
CREATED:20221126T201634Z
LAST-MODIFIED:20221126T201634Z
UID:10000051-1676746800-1676763000@slowjams.com
SUMMARY:Phoenix: Valentine's Super Love Jam
DESCRIPTION:R Dub! hosts The Valentine’s Super Love Jam starring Keith Sweat\, Tierra\, Ginuwine\, Blackstreet\, Color Me Badd and Rose Royce.
URL:https://slowjams.com/event/phoenix-valentines-super-love-jam/
LOCATION:Footprint Center\, 201 E Jefferson St\, Phoenix\, AZ\, 85004\, United States
CATEGORIES:Concerts
ATTACH;FMTTYPE=image/jpeg:https://slowjams.com/wp-content/uploads/2022/11/02-18-22-LOVE-JAM.jpg
ORGANIZER;CN="Mega 104.3":MAILTO:Fred.Rico@sierrah.com
END:VEVENT
BEGIN:VEVENT
DTSTART;TZID=America/Los_Angeles:20230211T190000
DTEND;TZID=America/Los_Angeles:20230211T233000
DTSTAMP:20260421T132256
CREATED:20221126T201306Z
LAST-MODIFIED:20221126T201306Z
UID:10000050-1676142000-1676158200@slowjams.com
SUMMARY:San Diego: Valentine's Super Love Jam
DESCRIPTION:R Dub! hosts The Valentines Super Love Jam! See the legendary Isley Brothers\, Blackstreet\, Ginuwine\, Color Me Badd\, The Jets\, Deniece Williams\, and Atlantic Starr! \nTickets are on-sale now on Axs.com!
URL:https://slowjams.com/event/san-diego-valentines-super-love-jam/
LOCATION:Pechanga Arena San Diego\, 3500 Sports Arena Blvd\, San Diego\, CA\, 92110
CATEGORIES:Concerts
ATTACH;FMTTYPE=image/jpeg:https://slowjams.com/wp-content/uploads/2022/11/02-11-22-love-jam.jpg
END:VEVENT
BEGIN:VEVENT
DTSTART;TZID=America/Los_Angeles:20220212T193000
DTEND;TZID=America/Los_Angeles:20220212T233000
DTSTAMP:20260421T132256
CREATED:20220124T015722Z
LAST-MODIFIED:20220124T023338Z
UID:10000070-1644694200-1644708600@slowjams.com
SUMMARY:SAN DIEGO\, CA: Valentine's Super Love Jam
DESCRIPTION:R Dub! hosts The Valentine’s Super Love Jam along with The Magic 92.5 crew. Featuring Zapp\, Midnight Star\, Rose Royce\, Tierra\, Manhattans\, Intruders\, GQ\, Bloodstone\, Heatwave\, and Notations.
URL:https://slowjams.com/event/valentines-super-love-jam-2/
LOCATION:Pechanga Arena San Diego\, 3500 Sports Arena Blvd\, San Diego\, CA\, 92110
CATEGORIES:Concerts
ATTACH;FMTTYPE=image/jpeg:https://slowjams.com/wp-content/uploads/2022/01/IG.jpg
END:VEVENT
BEGIN:VEVENT
DTSTART;TZID=America/Los_Angeles:20200425T190000
DTEND;TZID=America/Los_Angeles:20200425T230000
DTSTAMP:20260421T132256
CREATED:20200204T220526Z
LAST-MODIFIED:20200210T152153Z
UID:10000067-1587841200-1587855600@slowjams.com
SUMMARY:Austin\, TX - with 102.3 The Beat
DESCRIPTION:
URL:https://slowjams.com/event/austin-tx-with-102-3-the-beat/
LOCATION:HEB Center\, 2100 Ave of the Stars\, Cedar Park\, TX\, 78603\, United States
CATEGORIES:Concerts
ATTACH;FMTTYPE=image/png:https://slowjams.com/wp-content/uploads/2020/02/AUSTIN.png
END:VEVENT
BEGIN:VEVENT
DTSTART;TZID=America/Los_Angeles:20200229T190000
DTEND;TZID=America/Los_Angeles:20200229T230000
DTSTAMP:20260421T132256
CREATED:20191014T023704Z
LAST-MODIFIED:20200204T221802Z
UID:10000065-1583002800-1583017200@slowjams.com
SUMMARY:Tucson\, AZ - Slow Jams LIVE
DESCRIPTION:Slow Jams LIVE! starring Jon B\, Atlantic Starr\, Frankie J\, Amanda Perez and J Holiday! Hosted by R Dub! Tickets on sale now! \nThis is an intimate venue: We’ll be up close and personal with the artists\, so limited seats are available for this special show. \nOpening set by DJ Jahmar. \nCLICK HERE FOR TICKETS
URL:https://slowjams.com/event/tucson-az-slow-jams-live/
LOCATION:Tucson Music Hall\, 260 S Church Av\, Tucson\, AZ\, 85701\, United States
CATEGORIES:Concerts
ATTACH;FMTTYPE=image/jpeg:https://slowjams.com/wp-content/uploads/2019/10/slow-jams-1024x512.jpg
END:VEVENT
BEGIN:VEVENT
DTSTART;TZID=America/Los_Angeles:20200215T190000
DTEND;TZID=America/Los_Angeles:20200215T230000
DTSTAMP:20260421T132256
CREATED:20191105T172915Z
LAST-MODIFIED:20191105T223108Z
UID:10000066-1581793200-1581807600@slowjams.com
SUMMARY:San Diego\, CA - Valentine's Super Love Jam
DESCRIPTION:Join R Dub! and the Magic 92.5 in San Diego\, CA for the Valentine’s Super Love Jam!
URL:https://slowjams.com/event/san-diego-ca-valentines-super-love-jam/
LOCATION:Pechanga Arena San Diego\, 3500 Sports Arena Blvd\, San Diego\, CA\, 92110
CATEGORIES:Concerts
ATTACH;FMTTYPE=image/jpeg:https://slowjams.com/wp-content/uploads/2019/11/super-love-jam-2020-e1572993057376.jpg
END:VEVENT
BEGIN:VEVENT
DTSTART;TZID=America/Los_Angeles:20200214T190000
DTEND;TZID=America/Los_Angeles:20200214T233000
DTSTAMP:20260421T132256
CREATED:20191014T023021Z
LAST-MODIFIED:20191113T015047Z
UID:10000064-1581706800-1581723000@slowjams.com
SUMMARY:Phoenix\, AZ - Valentine's Super Love Jam
DESCRIPTION:Join R Dub! and Mega 104.3 for the Valentine’s Super Love Jam!
URL:https://slowjams.com/event/phoenix-az-valentines-super-love-jam-2/
LOCATION:Talking Stick Resort Arena\, 201 E Jefferson St.\, Phoenix\, AZ\, 85004\, United States
CATEGORIES:Concerts
ATTACH;FMTTYPE=image/jpeg:https://slowjams.com/wp-content/uploads/2019/10/5x7-phoenix-love-jam.jpg
ORGANIZER;CN="Mega 104.3":MAILTO:Fred.Rico@sierrah.com
END:VEVENT
BEGIN:VEVENT
DTSTART;TZID=America/Los_Angeles:20190928T190000
DTEND;TZID=America/Los_Angeles:20190928T233000
DTSTAMP:20260421T132256
CREATED:20190625T183357Z
LAST-MODIFIED:20190629T025333Z
UID:10000062-1569697200-1569713400@slowjams.com
SUMMARY:San Diego\, CA: Freestyle Explosion
DESCRIPTION:
URL:https://slowjams.com/event/san-diego-ca-freestyle-explosion/
LOCATION:Pechanga Arena San Diego\, 3500 Sports Arena Blvd\, San Diego\, CA\, 92110
CATEGORIES:Concerts
END:VEVENT
BEGIN:VEVENT
DTSTART;TZID=America/Los_Angeles:20190216T193000
DTEND;TZID=America/Los_Angeles:20190216T233000
DTSTAMP:20260421T132256
CREATED:20190129T150255Z
LAST-MODIFIED:20190212T001236Z
UID:10000061-1550345400-1550359800@slowjams.com
SUMMARY:Phoenix\, AZ: Valentine's Super Love Jam
DESCRIPTION:Mega 104.3 presents The Valentines Super Love Jam! \nStarring live on stage: Midnight Starr\, Dramatics\, Ready for the World\, Atlantic Starr\, The Chi-Lites\, The Notations\, The Lovelites\, Eddie Holman & Aalon! \nHosted by Art Laboe\, R Dub! and the Mega 104.3  All-Star DJs.
URL:https://slowjams.com/event/phoenix-az-valentines-super-love-jam/
LOCATION:Talking Stick Resort Arena\, 201 E Jefferson St.\, Phoenix\, AZ\, 85004\, United States
CATEGORIES:Concerts
ATTACH;FMTTYPE=image/jpeg:https://slowjams.com/wp-content/uploads/2019/01/IMG_3648.jpg
END:VEVENT
BEGIN:VEVENT
DTSTART;TZID=America/Los_Angeles:20190209T190000
DTEND;TZID=America/Los_Angeles:20190209T233000
DTSTAMP:20260421T132256
CREATED:20181019T234114Z
LAST-MODIFIED:20181126T033739Z
UID:10000058-1549738800-1549755000@slowjams.com
SUMMARY:San Diego\, CA: Valentine's Super Love Jam
DESCRIPTION:Magic 92.5 presents The Valentines Super Love Jam! \nStarring live on stage: Zapp\, Rose Royce\, Heatwave\, GQ\, MTuMe\, The Manhattans\, The Chi-Lites\, The Delfonics and Bloodstone! \nHosted by Art Laboe\, R Dub! and the Magic 92.5 All-Star-DJs.
URL:https://slowjams.com/event/valentines-super-love-jam/
LOCATION:Pechanga Arena San Diego\, 3500 Sports Arena Blvd\, San Diego\, CA\, 92110
CATEGORIES:Concerts
ATTACH;FMTTYPE=image/jpeg:https://slowjams.com/wp-content/uploads/2018/10/ART-LABOE-2018-STAGE-e1540006425282.jpg
END:VEVENT
END:VCALENDAR